
BEGIN:VCALENDAR
VERSION:2.0
PRODID:-//kunstbau.de//Veranstaltung//DE
BEGIN:VEVENT
UID:69e73a45aa5ac@kunstbau.de
DTSTAMP:20260421T105013
DTSTART:20250719T140000
DTEND:20250719T170000
SUMMARY:Ein Hut, ein Fleck, ein Wirbelsturm
DESCRIPTION:Was ist das besondere an einer Kunst-Sammlung? Was hat sie uns zu erzählen?
Gemeinsam entwickeln wir in einem Workshop eigene Fragen zu den Kunstwerken, ihrer Entstehung und erkunden, was sie auf ihrem Weg ins Museum alles erlebt haben.
Dazu wollen wir tief in die Forschung eintauchen, Informationen, Bilder und Ideen sammeln und neue Zusammenhänge entdecken. Unsere Forschungen verarbeiten wir künstlerisch. Mit kurzen Texten, Zeichnungen, Collagen, Theaterstücken, Comics und Videos schaffen wir ganz eigene Blickwinkel auf die Sammlung und ein Museum der Zukunft.
LOCATION:im Kunstbau
END:VEVENT
END:VCALENDAR
