
BEGIN:VCALENDAR
VERSION:2.0
PRODID:-//kunstbau.de//Veranstaltung//DE
BEGIN:VEVENT
UID:69e74e22cb56f@kunstbau.de
DTSTAMP:20260421T121458
DTSTART:20250725T150000
DTEND:20250725T160000
SUMMARY:Kaffeeklatsch mit dem Lenbachhaus-Team
DESCRIPTION:(Fast) jeden Freitag von 15-16 Uhr möchten Mitarbeiter*innen aus verschiedenen Bereichen des Lenbachhauses mit euch ins Gespräch kommen.
Wir können euch was über unsere Arbeit am Museum erzählen, aber freuen uns ebenso darüber, eure Perspektive kennenzulernen. Welche Visionen gibt es für Museen? Welche Hürden gibt es? Wo knüpft Museumsarbeit an Themen außerhalb der Institution an?
Fr, 27. Juni: Schoko-Kuchen mit Peter Schuster (Geschäftsleitung) und Katia Marano (Freie Mitarbeit in Bildung und Vermittlung)
Fr, 4. Juli: Zitrone-Kokos-Kuchen mit Franziska Eschenbach (Provenienzforschung/Sammlungsarchiv), Stefan Kaltenbach (Ausstellungsorganisation/Leihverkehr) und Jacqueline Seeliger (Digitale Kommunikation)
Fr, 18. Juli: Apfel-Zimtkuchen mit Melanie Vietmeier (Sammlungsleitung/Kuration Blauer Reiter, Kubin-Archiv)
Fr, 25. Juli: Karotten-Zimt-Kuchen mit Adrian Djukić (Bibliothek) und Stephanie Weber (Kuration Gegenwartskunst)
Fr, 1. August: Schoko-Kuchen mit Matthias Mühling (Direktion)
LOCATION:Im Kunstbau
END:VEVENT
END:VCALENDAR
