
BEGIN:VCALENDAR
VERSION:2.0
PRODID:-//kunstbau.de//Veranstaltung//DE
BEGIN:VEVENT
UID:69e73ae947559@kunstbau.de
DTSTAMP:20260421T105257
DTSTART:20250727T150000
DTEND:20250727T160000
SUMMARY:Lesekreis und Wassereis
DESCRIPTION:Sonntagnachmittag laden wir euch herzlich zu „Lesekreis und Wassereis“ - unserem offenen Lesekreis im kühlen Kunstbau ein.
Wir entdecken Kinderbücher, die sich um uns und unsere Umgebung drehen: Wer bin ich? Welche Orte mag ich? Wo halte ich mich gerne auf? Und wer ist noch da? Jede Woche gibt’s ein neues Buch, das wir gemeinsam lesen.
Außerdem essen wir zusammen selbstgemachtes Eis und stellen Nachschub für die nächste Lesegruppe her!
LOCATION:Im Kunstbau
END:VEVENT
END:VCALENDAR
