
BEGIN:VCALENDAR
VERSION:2.0
PRODID:-//kunstbau.de//Veranstaltung//DE
BEGIN:VEVENT
UID:69e74c798e49e@kunstbau.de
DTSTAMP:20260421T120753
DTSTART:20250625T160000
DTEND:20250625T183000
SUMMARY:No rules, just tools
DESCRIPTION:In unseren Workshops geht es schnell zur Sache: unkompliziert und offen für alle. Es wird genäht, gebaut, geformt – ohne Anmeldung, ohne Altersbeschränkung. Hier zählt das Ausprobieren, das gemeinsame Machen, das Wirklichwerden eigener Ideen. Mit unterschiedlichen Materialien könnt ihr Dinge entwerfen und herstellen. Dafür haben wir zwölf Sägen und eine Menge Nägel mitgebracht.
Keine Anmeldung nötig, kommt einfach vorbei!
LOCATION:Im Kunstbau
END:VEVENT
END:VCALENDAR
