
BEGIN:VCALENDAR
VERSION:2.0
PRODID:-//kunstbau.de//Veranstaltung//DE
BEGIN:VEVENT
UID:69e9e79814807@kunstbau.de
DTSTAMP:20260423T113416
DTSTART:20250706T140000
DTEND:20250706T153000
SUMMARY:Sitzenbleiben. Workshop mit DGS Verdolmetschung
DESCRIPTION:DER WORKSHOP AM 6.7. IST LEIDER ABGESAGT.
Weitere Termine am 13. und 20.7.
Im Workshop SITZENBLEIBEN untersuchen wir in altersgemischten Kleingruppen Orte des Lenbachhauses. Wir tauschen uns aus, diskutieren, teilen unterschiedliche Perspektiven und entwickeln so gemeinsam Gestaltungsmöglichkeiten für Orte, an denen wir uns gerne aufhalten. Von pragmatischen Lösungen bis zu utopischen Ansätzen kann dabei alles entstehen. Unsere Entwürfe verbleiben während der Ausstellungsdauer im Kunstbau.
mit Künstlerin und Kunstpädagogin Claudia Djabbari
LOCATION:Im Kunstbau
END:VEVENT
END:VCALENDAR
