
BEGIN:VCALENDAR
VERSION:2.0
PRODID:-//kunstbau.de//Veranstaltung//DE
BEGIN:VEVENT
UID:69e73c0d668b7@kunstbau.de
DTSTAMP:20260421T105749
DTSTART:20250730T190000
DTEND:20250730T210000
SUMMARY:Space Lit-Circle
DESCRIPTION:Mit „Hallo, mein Name ist Kunstbau.“ wird der Lit-Circle zum Space-lit Circle – wir lesen Texte rund um Räume: Museumsraum, Umgebung, Zwischenräume, Städte, Zimmer, Sozialräume. Wir lesen Fiktives und Dokumentarisches, entdecken Orte von oben oder lesen Räume aus feministischen Perspektiven.
Infos zu den einzelnen Texten bekommt ihr nach der Anmeldung per E-Mail.
Mi, 02.07. 19:00 Uhr - 21:00 Uhr
(öffentlicher) Raum aus feministischer Perspektive mit Texten vom Matrix feminist Aachitect&#8217;s collective und Rebecca Endler
Mi, 30.07. 19:00 - 21:00 Uhr
Lyrisches, Poetisches, Experimentelles mit Texten von Georges Perec, Monika Rinck und Samantha Harvey
Über den Lit Circle
Unsere Reading Group geht weiter – und verwandelt sich dabei jedes Mal neu: in einen Sci-Lit (Science Fiction), Sur-Lit (Surrealistische Texte) oder Space-Lit Circle.
Je nach Thema schauen wir uns unterschiedliche literarische Formen an. Einmal im Monat treffen wir uns und lesen gemeinsam Texte, die im Austausch mit aktuellen Ausstellungen im Lenbachhaus oder Themen aus dem glitch-Kosmos stehen. Lyrik, Romane, Theorie, Comic, was immer uns anspricht.
Wir lesen auf Deutsch und Englisch und sprechen in deutscher und englischer Sprache – je nach Gruppenzusammensetzung.
Es ist gut, schon vor dem Treffen in die Texte reinzulesen. Wir lesen nur kleine Auszüge gemeinsam und steigen dann ins Gespräch ein.
Die Treffen finden je nach Thema entweder im glitch bookstore oder im Lenbachhaus statt – manchmal besuchen wir auch gemeinsam Ausstellungen, wenn es zur Literatur passt.
Wir freuen uns auf Euch beim nächsten Lit-Circle!
LOCATION:Im Kunstbau
END:VEVENT
END:VCALENDAR
