
BEGIN:VCALENDAR
VERSION:2.0
PRODID:-//kunstbau.de//Veranstaltung//DE
BEGIN:VEVENT
UID:69e74e072b0d7@kunstbau.de
DTSTAMP:20260421T121431
DTSTART:20250725T180000
DTEND:20250725T193000
SUMMARY:Tanz mich, ich bin der Kunstbau
DESCRIPTION:An vier Abenden tanzen wir den Kunstbau! Du kommst, wie du bist. Du tanzt, wie du willst. Die Abende werden angeleitet. Du wirst viel Raum haben, deine eigenen Bewegungen und Möglichkeiten auszuprobieren.
Eine gemeinsame Aktion von sechs offenen Tanzangeboten in München.
Beteiligt sind: Community Dance (Tanz inklus!ve und Tanz f&uuml;r Alle/DanceAbility), Open Dance LAB (Schauburg), Impact Kollektiv (Import Export, Kunstzentrat e.V.), Training for everybody (Playground Gbr), OPEN LAB everybody (Bayerische Staatsoper / Bayerisches Staatsballett)
Heute: OPEN LAB everybody (Bayerische Staatsoper/ Bayerisches Staatsballett), Anleitung: Celina von Trzebiatovski
LOCATION:Im Kunstbau
END:VEVENT
END:VCALENDAR
