
BEGIN:VCALENDAR
VERSION:2.0
PRODID:-//kunstbau.de//Veranstaltung//DE
BEGIN:VEVENT
UID:69e9e5cf2334c@kunstbau.de
DTSTAMP:20260423T112639
DTSTART:20250717T180000
DTEND:20250717T193000
SUMMARY:Tanz mich, ich bin der Kunstbau
DESCRIPTION:An vier Abenden tanzen wir den Kunstbau! Du kommst, wie du bist. Du tanzt, wie du willst. Die Abende werden angeleitet. Du wirst viel Raum haben, deine eigenen Bewegungen und Möglichkeiten auszuprobieren.
Eine gemeinsame Aktion von sechs offenen Tanzangeboten in München.
Beteiligt sind: Community Dance (Tanz inklus!ve und Tanz f&uuml;r Alle/DanceAbility), Open Dance LAB (Schauburg), Impact Kollektiv (Import Export, Kunstzentrat e.V.), Training for everybody (Playground Gbr), OPEN LAB everybody (Bayerische Staatsoper / Bayerisches Staatsballett)
Heute: Training for everybody, Anleitung: Anna Konjetzky, Quindell Orton
LOCATION:Im Kunstbau
END:VEVENT
END:VCALENDAR
