
BEGIN:VCALENDAR
VERSION:2.0
PRODID:-//kunstbau.de//Veranstaltung//DE
BEGIN:VEVENT
UID:69e74c79506b3@kunstbau.de
DTSTAMP:20260421T120753
DTSTART:20250709T173000
DTEND:20250709T193000
SUMMARY:Tanz mich, ich bin der Kunstbau
DESCRIPTION:An vier Abenden tanzen wir den Kunstbau! Du kommst, wie du bist. Du tanzt, wie du willst. Die Abende werden angeleitet. Du wirst viel Raum haben, deine eigenen Bewegungen und Möglichkeiten auszuprobieren.
Eine gemeinsame Aktion von sechs offenen Tanzangeboten in München.
Beteiligt sind: Community Dance (Tanz inklus!ve und Tanz f&uuml;r Alle/DanceAbility), Open Dance LAB (Schauburg), Impact Kollektiv (Import Export, Kunstzentrat e.V.), Training for everybody (Playground Gbr), OPEN LAB everybody (Bayerische Staatsoper / Bayerisches Staatsballett)
Heute: Open Dance LAB, Schauburg und Impact Kollektiv, Anleitung: Barbara Galli-Jescheck
LOCATION:Freifläche im Kunstbau
END:VEVENT
END:VCALENDAR
